BEGIN:VCALENDAR
VERSION:2.0
PRODID:-//Plone.org//NONSGML plone.app.event//EN
X-WR-TIMEZONE:Europe/Madrid
BEGIN:VEVENT
SUMMARY:Xerrada amb Quico Pi de la Serra
DTSTART;TZID=Europe/Madrid;VALUE=DATE-TIME:20221021T200000
DTEND;TZID=Europe/Madrid;VALUE=DATE-TIME:20221021T210000
DTSTAMP;VALUE=DATE-TIME:20260424T120658Z
UID:8e1a1676a9580ed6d5491c30891a897c
CREATED;VALUE=DATE-TIME:20221021T000000Z
LOCATION:Envelat de Vil·la Flora
ORGANIZER:Àgora Canet
URL:https://www.canetdemar.cat/document.php?id=23268
END:VEVENT
END:VCALENDAR