BEGIN:VCALENDAR
VERSION:2.0
PRODID:-//Plone.org//NONSGML plone.app.event//EN
X-WR-TIMEZONE:Europe/Madrid
BEGIN:VEVENT
SUMMARY:Exposició dels alumnes del taller de Mª Mercè Aimerich
DTSTART;TZID=Europe/Madrid;VALUE=DATE-TIME:20221003T170000
DTEND;TZID=Europe/Madrid;VALUE=DATE-TIME:20221003T180000
DTSTAMP;VALUE=DATE-TIME:20260425T022317Z
UID:a60ecba697539c02054d018f7e874953
CREATED;VALUE=DATE-TIME:20221003T000000Z
CATEGORIES:Exposició
LOCATION:Sala Cultural Ramon de Capmany
ORGANIZER:Mª Mercè Aimerich
COMMENT:Durada: del 3 al 16 d'0ctubre de 2022 - Horari d'obertura: De dimarts a dissabte de 17:00 h a 20:00 h Diumenge d'11:00 a 13:30 h.
URL:https://www.canetdemar.cat/document.php?id=23244
END:VEVENT
END:VCALENDAR