BEGIN:VCALENDAR
VERSION:2.0
PRODID:-//Plone.org//NONSGML plone.app.event//EN
X-WR-TIMEZONE:Europe/Madrid
BEGIN:VEVENT
SUMMARY:Cuida'l
DTSTART;TZID=Europe/Madrid;VALUE=DATE-TIME:20221002T120000
DTEND;TZID=Europe/Madrid;VALUE=DATE-TIME:20221002T130000
DTSTAMP;VALUE=DATE-TIME:20260424T131525Z
UID:a462bb3ae923e1515d73c6178412dfac
CREATED;VALUE=DATE-TIME:20221002T000000Z
CATEGORIES:Teatre
LOCATION:TMC - Sala Centru
ORGANIZER:Àrea de Cultura - Ajuntament de Canet de Mar
COMMENT:Preu: 5&euro; anticipada, 6&euro; taquilla
Durada: 1h 30'
URL:https://www.canetdemar.cat/document.php?id=23229
END:VEVENT
END:VCALENDAR