BEGIN:VCALENDAR
VERSION:2.0
PRODID:-//Plone.org//NONSGML plone.app.event//EN
X-WR-TIMEZONE:Europe/Madrid
BEGIN:VEVENT
SUMMARY:Conferència: "L'origen del catalanisme polític a Canet"
DTSTART;TZID=Europe/Madrid;VALUE=DATE-TIME:20030314T200000
DTEND;TZID=Europe/Madrid;VALUE=DATE-TIME:20030314T210000
DTSTAMP;VALUE=DATE-TIME:20260425T203815Z
UID:ff56efc9164caae004dde68448086b31
CREATED;VALUE=DATE-TIME:20030314T000000Z
URL:https://www.canetdemar.cat/document.php?id=232
END:VEVENT
END:VCALENDAR