BEGIN:VCALENDAR
VERSION:2.0
PRODID:-//Plone.org//NONSGML plone.app.event//EN
X-WR-TIMEZONE:Europe/Madrid
BEGIN:VEVENT
SUMMARY:Ruta guiada: Els indians "americanos" i el cementiri
DTSTART;TZID=Europe/Madrid;VALUE=DATE-TIME:20221112T110000
DTEND;TZID=Europe/Madrid;VALUE=DATE-TIME:20221112T120000
DTSTAMP;VALUE=DATE-TIME:20260423T190934Z
UID:9b64f353956deb9c032c404283e7f2a8
CREATED;VALUE=DATE-TIME:20221112T000000Z
LOCATION:Punt de trobada: Casa museu Lluís Domènech i Montaner
ORGANIZER:Àrea de Cultura - Ajuntament de Canet de Mar
COMMENT:Preu: 10&euro; (jubilats, estudiants i carnet de biblioteca 6&euro;). Menors de 12 anys gratuït.
Durada: 2h
URL:https://www.canetdemar.cat/document.php?id=23179
END:VEVENT
END:VCALENDAR