BEGIN:VCALENDAR
VERSION:2.0
PRODID:-//Plone.org//NONSGML plone.app.event//EN
X-WR-TIMEZONE:Europe/Madrid
BEGIN:VEVENT
SUMMARY:Els indians "americanos" i el cementiri
DTSTART;TZID=Europe/Madrid;VALUE=DATE-TIME:20220910T110000
DTEND;TZID=Europe/Madrid;VALUE=DATE-TIME:20220910T120000
DTSTAMP;VALUE=DATE-TIME:20260424T011715Z
UID:293e84d97983188dcd60cad1a149f190
CREATED;VALUE=DATE-TIME:20220910T000000Z
LOCATION:Punt de trobada: Casa museu Lluís Domènech i Montaner
ORGANIZER:Àrea de Cultura - Ajuntament de Canet de Mar
COMMENT:Preu: 10&euro; (jubilats, estudiants i carnet de biblioteca 6&euro;). Menors de 12 anys gratuït.
Durada: 2h
DESCRIPTION:Ruta guiada
URL:https://www.canetdemar.cat/document.php?id=23177
END:VEVENT
END:VCALENDAR