BEGIN:VCALENDAR
VERSION:2.0
PRODID:-//Plone.org//NONSGML plone.app.event//EN
X-WR-TIMEZONE:Europe/Madrid
BEGIN:VEVENT
SUMMARY:EXPOSICIÓ DE PINTURA: Vistes al Mar 1850-1936
DTSTART;TZID=Europe/Madrid;VALUE=DATE-TIME:20220907T100000
DTEND;TZID=Europe/Madrid;VALUE=DATE-TIME:20220907T110000
DTSTAMP;VALUE=DATE-TIME:20260423T133736Z
UID:92c826a3857410d1b13da8b001939fbc
CREATED;VALUE=DATE-TIME:20220907T000000Z
CATEGORIES:Exposició
LOCATION:Casa museu Lluís Domènech i Montaner
ORGANIZER:Àrea de Cultura
COMMENT:Preu: Gratuït
Durada: del 7 de setembre al 13 de novembre
DESCRIPTION:Festes de la Mare de Déu de la Misericòrdia i Diada Nacional
URL:https://www.canetdemar.cat/document.php?id=23144
END:VEVENT
END:VCALENDAR