BEGIN:VCALENDAR
VERSION:2.0
PRODID:-//Plone.org//NONSGML plone.app.event//EN
X-WR-TIMEZONE:Europe/Madrid
BEGIN:VEVENT
SUMMARY:JAZZ GATS+ LAIA PORTA+ ANANDA MASSA
DTSTART;TZID=Europe/Madrid;VALUE=DATE-TIME:20220807T193000
DTEND;TZID=Europe/Madrid;VALUE=DATE-TIME:20220807T203000
DTSTAMP;VALUE=DATE-TIME:20260423T122125Z
UID:7386a98d41b3e3d4f8806e131f6c0369
CREATED;VALUE=DATE-TIME:20220807T000000Z
CATEGORIES:Música
LOCATION:Jardins Comediants. Rieva Gavarra, 69
ORGANIZER:Associació de Jubilats Canet de Mar
COMMENT:Preu: Socis:7&euro;    Entràpolis:10&euro;    Taquilla:12&euro;
Durada: 1.30h
DESCRIPTION:FESTIVAL JARDINS COMEDIANTS
URL:https://www.canetdemar.cat/document.php?id=23106
END:VEVENT
END:VCALENDAR