BEGIN:VCALENDAR
VERSION:2.0
PRODID:-//Plone.org//NONSGML plone.app.event//EN
X-WR-TIMEZONE:Europe/Madrid
BEGIN:VEVENT
SUMMARY:Festival Poesia i +
DTSTART;TZID=Europe/Madrid;VALUE=DATE-TIME:20220628T200000
DTEND;TZID=Europe/Madrid;VALUE=DATE-TIME:20220628T210000
DTSTAMP;VALUE=DATE-TIME:20260424T024225Z
UID:5bec938a0d3ae315f927c4e9bea16bc7
CREATED;VALUE=DATE-TIME:20220628T000000Z
CATEGORIES:Literatura,Música
LOCATION:Pati Escola de Teixits
ORGANIZER:Fundació Palau i Fabre
COMMENT:Preu: 5&euro;
URL:https://www.canetdemar.cat/document.php?id=23065
END:VEVENT
END:VCALENDAR