BEGIN:VCALENDAR
VERSION:2.0
PRODID:-//Plone.org//NONSGML plone.app.event//EN
X-WR-TIMEZONE:Europe/Madrid
BEGIN:VEVENT
SUMMARY:"La Maria us convida a passar..."
DTSTART;TZID=Europe/Madrid;VALUE=DATE-TIME:20220827T180000
DTEND;TZID=Europe/Madrid;VALUE=DATE-TIME:20220827T190000
DTSTAMP;VALUE=DATE-TIME:20260421T044035Z
UID:b86d7ee9c6b8c225b6ac178bb5e4ed93
CREATED;VALUE=DATE-TIME:20220827T000000Z
CATEGORIES:Teatre
LOCATION:Casa museu Lluís Domènech i Montaner
ORGANIZER:Àrea de Cultura - Ajuntament de Canet de Mar
COMMENT:Preu: 7&euro; (carnet de biblioteca, jubilats i estudiants 4&euro;). Menors de 12 anys gratuïta.
Durada: 1h
DESCRIPTION:Visita teatralitzada a la Casa i taller de Lluís Domènech i Montaner
URL:https://www.canetdemar.cat/document.php?id=23044
END:VEVENT
END:VCALENDAR