BEGIN:VCALENDAR
VERSION:2.0
PRODID:-//Plone.org//NONSGML plone.app.event//EN
X-WR-TIMEZONE:Europe/Madrid
BEGIN:VEVENT
SUMMARY:Entrada gratuïta a la Casa museu Lluís Domènech i Montaner
DTSTART;TZID=Europe/Madrid;VALUE=DATE-TIME:20220703T000000
DTEND;TZID=Europe/Madrid;VALUE=DATE-TIME:20220703T010000
DTSTAMP;VALUE=DATE-TIME:20260423T221813Z
UID:005e5353c8631663ba0a958239c72d22
CREATED;VALUE=DATE-TIME:20220703T000000Z
LOCATION:Casa museu Lluís Domènech i Montaner
ORGANIZER:Àrea de Cultura - Ajuntament de Canet de Mar
COMMENT:Durada: De 10 a 13.30h
URL:https://www.canetdemar.cat/document.php?id=23033
END:VEVENT
END:VCALENDAR