BEGIN:VCALENDAR
VERSION:2.0
PRODID:-//Plone.org//NONSGML plone.app.event//EN
X-WR-TIMEZONE:Europe/Madrid
BEGIN:VEVENT
SUMMARY:FM 2022 | Torneig d'Escacs
DTSTART;TZID=Europe/Madrid;VALUE=DATE-TIME:20220710T100000
DTEND;TZID=Europe/Madrid;VALUE=DATE-TIME:20220710T110000
DTSTAMP;VALUE=DATE-TIME:20260423T134814Z
UID:35fe8eddff200b42e5e0f0df763c6d7e
CREATED;VALUE=DATE-TIME:20220710T000000Z
LOCATION:Avinguda General Moragues
ORGANIZER:Club d´Escacs Canet
DESCRIPTION:Festa Major
URL:https://www.canetdemar.cat/document.php?id=23024
END:VEVENT
END:VCALENDAR