BEGIN:VCALENDAR
VERSION:2.0
PRODID:-//Plone.org//NONSGML plone.app.event//EN
X-WR-TIMEZONE:Europe/Madrid
BEGIN:VEVENT
SUMMARY:FM 2022 | Tradicional castells de focs
DTSTART;TZID=Europe/Madrid;VALUE=DATE-TIME:20220629T223000
DTEND;TZID=Europe/Madrid;VALUE=DATE-TIME:20220629T233000
DTSTAMP;VALUE=DATE-TIME:20260424T102458Z
UID:fedfec80bb854e28427e782fd7bdd294
CREATED;VALUE=DATE-TIME:20220629T000000Z
CATEGORIES:Festa,Música
LOCATION:Platja - davant la riera Sant Domènec
ORGANIZER:Àrea de Festes
DESCRIPTION:Festa Major - Diada de Sant Pere i Sant Pau
URL:https://www.canetdemar.cat/document.php?id=23018
END:VEVENT
END:VCALENDAR