BEGIN:VCALENDAR
VERSION:2.0
PRODID:-//Plone.org//NONSGML plone.app.event//EN
X-WR-TIMEZONE:Europe/Madrid
BEGIN:VEVENT
SUMMARY:FM 2022 | Jocs gegants d'aigua
DTSTART;TZID=Europe/Madrid;VALUE=DATE-TIME:20220628T170000
DTEND;TZID=Europe/Madrid;VALUE=DATE-TIME:20220628T180000
DTSTAMP;VALUE=DATE-TIME:20260424T033945Z
UID:d249b3c6e3b265e8d3f08587b2e9020e
CREATED;VALUE=DATE-TIME:20220628T000000Z
CATEGORIES:Festa,Infantils
LOCATION:Plaça 11 de Setembre
ORGANIZER:Àrea de Festes
COMMENT:Durada: De 17.00 a 20.00 hores
DESCRIPTION:Festa Major
URL:https://www.canetdemar.cat/document.php?id=23009
END:VEVENT
END:VCALENDAR