BEGIN:VCALENDAR
VERSION:2.0
PRODID:-//Plone.org//NONSGML plone.app.event//EN
X-WR-TIMEZONE:Europe/Madrid
BEGIN:VEVENT
SUMMARY:FM 2022 | Fira d'Atraccions
DTSTART;TZID=Europe/Madrid;VALUE=DATE-TIME:20220623T180000
DTEND;TZID=Europe/Madrid;VALUE=DATE-TIME:20220623T190000
DTSTAMP;VALUE=DATE-TIME:20260425T210836Z
UID:219f66954b0010c5348a099c394c7cdc
CREATED;VALUE=DATE-TIME:20220623T000000Z
CATEGORIES:Festa
LOCATION:Passeig Marítim
ORGANIZER:Àrea de Festes
DESCRIPTION:Festa Major
URL:https://www.canetdemar.cat/document.php?id=22989
END:VEVENT
END:VCALENDAR