BEGIN:VCALENDAR
VERSION:2.0
PRODID:-//Plone.org//NONSGML plone.app.event//EN
X-WR-TIMEZONE:Europe/Madrid
BEGIN:VEVENT
SUMMARY:Divendres de tapes al mercat
DTSTART;TZID=Europe/Madrid;VALUE=DATE-TIME:20220610T203000
DTEND;TZID=Europe/Madrid;VALUE=DATE-TIME:20220610T213000
DTSTAMP;VALUE=DATE-TIME:20260423T200806Z
UID:09e162eb515a234cdf742bd5c5101a74
CREATED;VALUE=DATE-TIME:20220610T000000Z
LOCATION:Plaça Mercat
ORGANIZER:Associació de venedors del Mercat / Ajuntament de Canet de Mar
COMMENT:Durada: De 20.30 a 23.30h
URL:https://www.canetdemar.cat/document.php?id=22981
END:VEVENT
END:VCALENDAR