BEGIN:VCALENDAR
VERSION:2.0
PRODID:-//Plone.org//NONSGML plone.app.event//EN
X-WR-TIMEZONE:Europe/Madrid
BEGIN:VEVENT
SUMMARY:Concert per Ucraïna
DTSTART;TZID=Europe/Madrid;VALUE=DATE-TIME:20220612T190000
DTEND;TZID=Europe/Madrid;VALUE=DATE-TIME:20220612T200000
DTSTAMP;VALUE=DATE-TIME:20260425T004412Z
UID:67a786bf222e5275dfe824cf191c26e3
CREATED;VALUE=DATE-TIME:20220612T000000Z
CATEGORIES:Música
LOCATION:Església Parroquial de Canet de Mar
ORGANIZER:Canet en Acció
COMMENT:Preu: 13&euro; Anticipada - 15&euro; Taquilla
Durada: Dues Hores
DESCRIPTION:Nova Orquestra de Cambra Germans Pla
URL:https://www.canetdemar.cat/document.php?id=22973
END:VEVENT
END:VCALENDAR