BEGIN:VCALENDAR
VERSION:2.0
PRODID:-//Plone.org//NONSGML plone.app.event//EN
X-WR-TIMEZONE:Europe/Madrid
BEGIN:VEVENT
SUMMARY:Taller:  La meva primera feina
DTSTART;TZID=Europe/Madrid;VALUE=DATE-TIME:20220519T180000
DTEND;TZID=Europe/Madrid;VALUE=DATE-TIME:20220519T190000
DTSTAMP;VALUE=DATE-TIME:20260423T115951Z
UID:b839ee90fc2e510fc4a9a453c393506f
CREATED;VALUE=DATE-TIME:20220519T000000Z
LOCATION:En línia
ORGANIZER:Joventut
COMMENT:Preu: Gratuït
DESCRIPTION:Per a joves de 16 a 25 anys
URL:https://www.canetdemar.cat/document.php?id=22917
END:VEVENT
END:VCALENDAR