BEGIN:VCALENDAR
VERSION:2.0
PRODID:-//Plone.org//NONSGML plone.app.event//EN
X-WR-TIMEZONE:Europe/Madrid
BEGIN:VEVENT
SUMMARY:Mostra tèxtil Mar de fils
DTSTART;TZID=Europe/Madrid;VALUE=DATE-TIME:20220514T000000
DTEND;TZID=Europe/Madrid;VALUE=DATE-TIME:20220514T010000
DTSTAMP;VALUE=DATE-TIME:20260421T110827Z
UID:d1f25340aa9bac58ba26e1de32fa0c58
CREATED;VALUE=DATE-TIME:20220514T000000Z
CATEGORIES:Exposició
LOCATION:Riera Sant Domènec
ORGANIZER:Mares Malabaristes
COMMENT:Preu: gratis
Durada: 10:00 h a 21:00 h
URL:https://www.canetdemar.cat/document.php?id=22908
END:VEVENT
END:VCALENDAR