BEGIN:VCALENDAR
VERSION:2.0
PRODID:-//Plone.org//NONSGML plone.app.event//EN
X-WR-TIMEZONE:Europe/Madrid
BEGIN:VEVENT
SUMMARY:Reunió amb una veïna de Canet
DTSTART;TZID=Europe/Madrid;VALUE=DATE-TIME:20220509T110000
DTEND;TZID=Europe/Madrid;VALUE=DATE-TIME:20220509T120000
DTSTAMP;VALUE=DATE-TIME:20260421T012805Z
UID:45a1f4146e94d59588057896eea2d212
CREATED;VALUE=DATE-TIME:20220509T000000Z
CATEGORIES:Agenda institucional
URL:https://www.canetdemar.cat/document.php?id=22902
END:VEVENT
END:VCALENDAR