BEGIN:VCALENDAR
VERSION:2.0
PRODID:-//Plone.org//NONSGML plone.app.event//EN
X-WR-TIMEZONE:Europe/Madrid
BEGIN:VEVENT
SUMMARY:Presentació auditoria Informatica a l'Equip de Govern
DTSTART;TZID=Europe/Madrid;VALUE=DATE-TIME:20220505T180000
DTEND;TZID=Europe/Madrid;VALUE=DATE-TIME:20220505T190000
DTSTAMP;VALUE=DATE-TIME:20260420T190009Z
UID:1d18b8ca18269201d25db7254ed1ef7d
CREATED;VALUE=DATE-TIME:20220505T000000Z
CATEGORIES:Agenda institucional
LOCATION:Sala annexa Alcaldia
URL:https://www.canetdemar.cat/document.php?id=22900
END:VEVENT
END:VCALENDAR