BEGIN:VCALENDAR
VERSION:2.0
PRODID:-//Plone.org//NONSGML plone.app.event//EN
X-WR-TIMEZONE:Europe/Madrid
BEGIN:VEVENT
SUMMARY:Acte de presa de possessió agent de Policia
DTSTART;TZID=Europe/Madrid;VALUE=DATE-TIME:20220505T110000
DTEND;TZID=Europe/Madrid;VALUE=DATE-TIME:20220505T120000
DTSTAMP;VALUE=DATE-TIME:20260420T172154Z
UID:ea3b81ed73f9a3576cb2cfc791931302
CREATED;VALUE=DATE-TIME:20220505T000000Z
CATEGORIES:Agenda institucional
LOCATION:Sala de plens
URL:https://www.canetdemar.cat/document.php?id=22898
END:VEVENT
END:VCALENDAR