BEGIN:VCALENDAR
VERSION:2.0
PRODID:-//Plone.org//NONSGML plone.app.event//EN
X-WR-TIMEZONE:Europe/Madrid
BEGIN:VEVENT
SUMMARY:Reunió amb una treballadora de l'Ajuntament
DTSTART;TZID=Europe/Madrid;VALUE=DATE-TIME:20220505T100000
DTEND;TZID=Europe/Madrid;VALUE=DATE-TIME:20220505T110000
DTSTAMP;VALUE=DATE-TIME:20260420T172240Z
UID:51b5fec2e47151734bc83e5ad7a233d7
CREATED;VALUE=DATE-TIME:20220505T000000Z
CATEGORIES:Agenda institucional
LOCATION:Sala annexa Alcaldia
URL:https://www.canetdemar.cat/document.php?id=22897
END:VEVENT
END:VCALENDAR