BEGIN:VCALENDAR
VERSION:2.0
PRODID:-//Plone.org//NONSGML plone.app.event//EN
X-WR-TIMEZONE:Europe/Madrid
BEGIN:VEVENT
SUMMARY:Assemblea equip de govern - treballadors ajuntament
DTSTART;TZID=Europe/Madrid;VALUE=DATE-TIME:20220502T180000
DTEND;TZID=Europe/Madrid;VALUE=DATE-TIME:20220502T190000
DTSTAMP;VALUE=DATE-TIME:20260420T172124Z
UID:6b9e1f6e6b7806f2df6e6422657f4132
CREATED;VALUE=DATE-TIME:20220502T000000Z
CATEGORIES:Agenda institucional
LOCATION:Aula Magna CRTTT - Escola de Teixits
URL:https://www.canetdemar.cat/document.php?id=22896
END:VEVENT
END:VCALENDAR