BEGIN:VCALENDAR
VERSION:2.0
PRODID:-//Plone.org//NONSGML plone.app.event//EN
X-WR-TIMEZONE:Europe/Madrid
BEGIN:VEVENT
SUMMARY:Reunió Fons Next Generation
DTSTART;TZID=Europe/Madrid;VALUE=DATE-TIME:20220502T120000
DTEND;TZID=Europe/Madrid;VALUE=DATE-TIME:20220502T130000
DTSTAMP;VALUE=DATE-TIME:20260420T171309Z
UID:7d61ba06dbe3b89ee851503a72d06b02
CREATED;VALUE=DATE-TIME:20220502T000000Z
CATEGORIES:Agenda institucional
LOCATION:Sala annexa Alcaldia
URL:https://www.canetdemar.cat/document.php?id=22895
END:VEVENT
END:VCALENDAR