BEGIN:VCALENDAR
VERSION:2.0
PRODID:-//Plone.org//NONSGML plone.app.event//EN
X-WR-TIMEZONE:Europe/Madrid
BEGIN:VEVENT
SUMMARY:Reunió amb la tècnica de Recursos Humans
DTSTART;TZID=Europe/Madrid;VALUE=DATE-TIME:20220429T110000
DTEND;TZID=Europe/Madrid;VALUE=DATE-TIME:20220429T120000
DTSTAMP;VALUE=DATE-TIME:20260420T172224Z
UID:9f8ee9c03ceb32e6b6ccb2f556c4b3f9
CREATED;VALUE=DATE-TIME:20220429T000000Z
CATEGORIES:Agenda institucional
LOCATION:Sala annexa Alcaldia
URL:https://www.canetdemar.cat/document.php?id=22893
END:VEVENT
END:VCALENDAR