BEGIN:VCALENDAR
VERSION:2.0
PRODID:-//Plone.org//NONSGML plone.app.event//EN
X-WR-TIMEZONE:Europe/Madrid
BEGIN:VEVENT
SUMMARY:Ple municipal ordinari
DTSTART;TZID=Europe/Madrid;VALUE=DATE-TIME:20220428T183000
DTEND;TZID=Europe/Madrid;VALUE=DATE-TIME:20220428T193000
DTSTAMP;VALUE=DATE-TIME:20260420T171153Z
UID:3d68a26cf447c1e134d8cd273c1d3ae3
CREATED;VALUE=DATE-TIME:20220428T000000Z
CATEGORIES:Agenda institucional
URL:https://www.canetdemar.cat/document.php?id=22892
END:VEVENT
END:VCALENDAR