BEGIN:VCALENDAR
VERSION:2.0
PRODID:-//Plone.org//NONSGML plone.app.event//EN
X-WR-TIMEZONE:Europe/Madrid
BEGIN:VEVENT
SUMMARY:Junta de Govern Local
DTSTART;TZID=Europe/Madrid;VALUE=DATE-TIME:20220519T170000
DTEND;TZID=Europe/Madrid;VALUE=DATE-TIME:20220519T180000
DTSTAMP;VALUE=DATE-TIME:20260420T191107Z
UID:f8535d81ad7f9c0f43b653f2d986e6fc
CREATED;VALUE=DATE-TIME:20220519T000000Z
CATEGORIES:Agenda institucional
LOCATION:Sala annexa Alcaldia
URL:https://www.canetdemar.cat/document.php?id=22890
END:VEVENT
END:VCALENDAR