BEGIN:VCALENDAR
VERSION:2.0
PRODID:-//Plone.org//NONSGML plone.app.event//EN
X-WR-TIMEZONE:Europe/Madrid
BEGIN:VEVENT
SUMMARY:Presa Possessió personal administratiu
DTSTART;TZID=Europe/Madrid;VALUE=DATE-TIME:20220428T100000
DTEND;TZID=Europe/Madrid;VALUE=DATE-TIME:20220428T110000
DTSTAMP;VALUE=DATE-TIME:20260420T172424Z
UID:db8751db047af678eac77d2df8252122
CREATED;VALUE=DATE-TIME:20220428T000000Z
CATEGORIES:Agenda institucional
LOCATION:Sala annexa Alcaldia
URL:https://www.canetdemar.cat/document.php?id=22886
END:VEVENT
END:VCALENDAR