BEGIN:VCALENDAR
VERSION:2.0
PRODID:-//Plone.org//NONSGML plone.app.event//EN
X-WR-TIMEZONE:Europe/Madrid
BEGIN:VEVENT
SUMMARY:Consell de Centre del Teatre Municipal de Canet de Mar
DTSTART;TZID=Europe/Madrid;VALUE=DATE-TIME:20220427T190000
DTEND;TZID=Europe/Madrid;VALUE=DATE-TIME:20220427T200000
DTSTAMP;VALUE=DATE-TIME:20260420T154126Z
UID:9836a01c003f6ccb1e6bc69cee72bd11
CREATED;VALUE=DATE-TIME:20220427T000000Z
CATEGORIES:Agenda institucional
LOCATION:Teatre Municipal de Canet de Mar
URL:https://www.canetdemar.cat/document.php?id=22884
END:VEVENT
END:VCALENDAR