BEGIN:VCALENDAR
VERSION:2.0
PRODID:-//Plone.org//NONSGML plone.app.event//EN
X-WR-TIMEZONE:Europe/Madrid
BEGIN:VEVENT
SUMMARY:Reunió Interna Ajuntament
DTSTART;TZID=Europe/Madrid;VALUE=DATE-TIME:20220427T120000
DTEND;TZID=Europe/Madrid;VALUE=DATE-TIME:20220427T130000
DTSTAMP;VALUE=DATE-TIME:20260420T202045Z
UID:e0d3e41b8dd77954281a9407d5d4b459
CREATED;VALUE=DATE-TIME:20220427T000000Z
CATEGORIES:Agenda institucional
URL:https://www.canetdemar.cat/document.php?id=22883
END:VEVENT
END:VCALENDAR