BEGIN:VCALENDAR
VERSION:2.0
PRODID:-//Plone.org//NONSGML plone.app.event//EN
X-WR-TIMEZONE:Europe/Madrid
BEGIN:VEVENT
SUMMARY:Reunió del Patronat de la Fundació Els Garrofers
DTSTART;TZID=Europe/Madrid;VALUE=DATE-TIME:20220426T170000
DTEND;TZID=Europe/Madrid;VALUE=DATE-TIME:20220426T180000
DTSTAMP;VALUE=DATE-TIME:20260420T184845Z
UID:7f0aea2d46d194c7bd6813b30c43e9de
CREATED;VALUE=DATE-TIME:20220426T000000Z
CATEGORIES:Agenda institucional
LOCATION:Fundació Els Garrofers
URL:https://www.canetdemar.cat/document.php?id=22882
END:VEVENT
END:VCALENDAR