BEGIN:VCALENDAR
VERSION:2.0
PRODID:-//Plone.org//NONSGML plone.app.event//EN
X-WR-TIMEZONE:Europe/Madrid
BEGIN:VEVENT
SUMMARY:Reunió amb el regidor Lluís Llovet
DTSTART;TZID=Europe/Madrid;VALUE=DATE-TIME:20220425T120000
DTEND;TZID=Europe/Madrid;VALUE=DATE-TIME:20220425T130000
DTSTAMP;VALUE=DATE-TIME:20260420T202017Z
UID:d2be6859831dff73ea854548e7790d28
CREATED;VALUE=DATE-TIME:20220425T000000Z
CATEGORIES:Agenda institucional
LOCATION:Despatx Alcaldia
URL:https://www.canetdemar.cat/document.php?id=22879
END:VEVENT
END:VCALENDAR