BEGIN:VCALENDAR
VERSION:2.0
PRODID:-//Plone.org//NONSGML plone.app.event//EN
X-WR-TIMEZONE:Europe/Madrid
BEGIN:VEVENT
SUMMARY:Reunió amb ActaDigital de preparació Ple
DTSTART;TZID=Europe/Madrid;VALUE=DATE-TIME:20220425T100000
DTEND;TZID=Europe/Madrid;VALUE=DATE-TIME:20220425T110000
DTSTAMP;VALUE=DATE-TIME:20260420T154110Z
UID:7561f51665dda6be6ab0f4aba30b570e
CREATED;VALUE=DATE-TIME:20220425T000000Z
CATEGORIES:Agenda institucional
LOCATION:Sala de plens
URL:https://www.canetdemar.cat/document.php?id=22878
END:VEVENT
END:VCALENDAR