BEGIN:VCALENDAR
VERSION:2.0
PRODID:-//Plone.org//NONSGML plone.app.event//EN
X-WR-TIMEZONE:Europe/Madrid
BEGIN:VEVENT
SUMMARY:Reunió amb una veïna de Canet
DTSTART;TZID=Europe/Madrid;VALUE=DATE-TIME:20220425T090000
DTEND;TZID=Europe/Madrid;VALUE=DATE-TIME:20220425T100000
DTSTAMP;VALUE=DATE-TIME:20260420T184758Z
UID:c19c268a259ecba2b742e5783d603169
CREATED;VALUE=DATE-TIME:20220425T000000Z
CATEGORIES:Agenda institucional
LOCATION:Sala annexa Alcaldia
URL:https://www.canetdemar.cat/document.php?id=22877
END:VEVENT
END:VCALENDAR