BEGIN:VCALENDAR
VERSION:2.0
PRODID:-//Plone.org//NONSGML plone.app.event//EN
X-WR-TIMEZONE:Europe/Madrid
BEGIN:VEVENT
SUMMARY:Assistència a la Presentació llibre del Mestre Mont
DTSTART;TZID=Europe/Madrid;VALUE=DATE-TIME:20220424T110000
DTEND;TZID=Europe/Madrid;VALUE=DATE-TIME:20220424T120000
DTSTAMP;VALUE=DATE-TIME:20260420T171252Z
UID:b481b4bd24f0f7a03802e3561c92ac4c
CREATED;VALUE=DATE-TIME:20220424T000000Z
CATEGORIES:Agenda institucional
LOCATION:Sala Cultural de l'Ajuntament de Caldes d'Estrac
URL:https://www.canetdemar.cat/document.php?id=22876
END:VEVENT
END:VCALENDAR