BEGIN:VCALENDAR
VERSION:2.0
PRODID:-//Plone.org//NONSGML plone.app.event//EN
X-WR-TIMEZONE:Europe/Madrid
BEGIN:VEVENT
SUMMARY:Proclamació pubillatge canetenc
DTSTART;TZID=Europe/Madrid;VALUE=DATE-TIME:20220423T180000
DTEND;TZID=Europe/Madrid;VALUE=DATE-TIME:20220423T190000
DTSTAMP;VALUE=DATE-TIME:20260420T184743Z
UID:7caf05e7a27b7e1a8c9b6e70890322ef
CREATED;VALUE=DATE-TIME:20220423T000000Z
CATEGORIES:Agenda institucional
LOCATION:Carrer Ample
URL:https://www.canetdemar.cat/document.php?id=22875
END:VEVENT
END:VCALENDAR