BEGIN:VCALENDAR
VERSION:2.0
PRODID:-//Plone.org//NONSGML plone.app.event//EN
X-WR-TIMEZONE:Europe/Madrid
BEGIN:VEVENT
SUMMARY:Lliurament de premis IX Edició del premi Narrativa de la Biblioteca de Canet
DTSTART;TZID=Europe/Madrid;VALUE=DATE-TIME:20220423T121500
DTEND;TZID=Europe/Madrid;VALUE=DATE-TIME:20220423T131500
DTSTAMP;VALUE=DATE-TIME:20260420T171236Z
UID:c502f5fd24d056d9a2e99ab182e3a64c
CREATED;VALUE=DATE-TIME:20220423T000000Z
CATEGORIES:Agenda institucional
LOCATION:Biblioteca P. Gual i Pujadas
URL:https://www.canetdemar.cat/document.php?id=22874
END:VEVENT
END:VCALENDAR