BEGIN:VCALENDAR
VERSION:2.0
PRODID:-//Plone.org//NONSGML plone.app.event//EN
X-WR-TIMEZONE:Europe/Madrid
BEGIN:VEVENT
SUMMARY:Donació de sang
DTSTART;TZID=Europe/Madrid;VALUE=DATE-TIME:20220409T133000
DTEND;TZID=Europe/Madrid;VALUE=DATE-TIME:20220409T143000
DTSTAMP;VALUE=DATE-TIME:20260420T171207Z
UID:89f1cdeb50dc1de24b1c5cb6ffbda7c9
CREATED;VALUE=DATE-TIME:20220409T000000Z
CATEGORIES:Agenda institucional
LOCATION:Esplai de Gent Gran
URL:https://www.canetdemar.cat/document.php?id=22873
END:VEVENT
END:VCALENDAR