BEGIN:VCALENDAR
VERSION:2.0
PRODID:-//Plone.org//NONSGML plone.app.event//EN
X-WR-TIMEZONE:Europe/Madrid
BEGIN:VEVENT
SUMMARY:Visita carrers Clausell i Via Figuerola
DTSTART;TZID=Europe/Madrid;VALUE=DATE-TIME:20220408T110000
DTEND;TZID=Europe/Madrid;VALUE=DATE-TIME:20220408T120000
DTSTAMP;VALUE=DATE-TIME:20260420T154016Z
UID:e1b18859125f4ce12de6eae07c9effe7
CREATED;VALUE=DATE-TIME:20220408T000000Z
CATEGORIES:Agenda institucional
URL:https://www.canetdemar.cat/document.php?id=22872
END:VEVENT
END:VCALENDAR