BEGIN:VCALENDAR
VERSION:2.0
PRODID:-//Plone.org//NONSGML plone.app.event//EN
X-WR-TIMEZONE:Europe/Madrid
BEGIN:VEVENT
SUMMARY:Acte de presa de possessió personal de l'Ajuntament
DTSTART;TZID=Europe/Madrid;VALUE=DATE-TIME:20220407T103000
DTEND;TZID=Europe/Madrid;VALUE=DATE-TIME:20220407T113000
DTSTAMP;VALUE=DATE-TIME:20260420T174848Z
UID:d03763e0841776491f9d6149f1a3a30f
CREATED;VALUE=DATE-TIME:20220407T000000Z
CATEGORIES:Agenda institucional
LOCATION:Sala annexa Alcaldia
URL:https://www.canetdemar.cat/document.php?id=22870
END:VEVENT
END:VCALENDAR