BEGIN:VCALENDAR
VERSION:2.0
PRODID:-//Plone.org//NONSGML plone.app.event//EN
X-WR-TIMEZONE:Europe/Madrid
BEGIN:VEVENT
SUMMARY:Reunió amb la secretaria municipal
DTSTART;TZID=Europe/Madrid;VALUE=DATE-TIME:20220407T100000
DTEND;TZID=Europe/Madrid;VALUE=DATE-TIME:20220407T110000
DTSTAMP;VALUE=DATE-TIME:20260420T174644Z
UID:7f19bf567c7bf0f13139181a68ab73ad
CREATED;VALUE=DATE-TIME:20220407T000000Z
CATEGORIES:Agenda institucional
LOCATION:Despatx Alcaldia
URL:https://www.canetdemar.cat/document.php?id=22869
END:VEVENT
END:VCALENDAR