BEGIN:VCALENDAR
VERSION:2.0
PRODID:-//Plone.org//NONSGML plone.app.event//EN
X-WR-TIMEZONE:Europe/Madrid
BEGIN:VEVENT
SUMMARY:Reunió seguiment amb l'Àrea de Jardineria
DTSTART;TZID=Europe/Madrid;VALUE=DATE-TIME:20220526T080000
DTEND;TZID=Europe/Madrid;VALUE=DATE-TIME:20220526T090000
DTSTAMP;VALUE=DATE-TIME:20260420T172139Z
UID:f8732cd1e9733c91f4cd4076537cb641
CREATED;VALUE=DATE-TIME:20220526T000000Z
CATEGORIES:Agenda institucional
URL:https://www.canetdemar.cat/document.php?id=22868
END:VEVENT
END:VCALENDAR