BEGIN:VCALENDAR
VERSION:2.0
PRODID:-//Plone.org//NONSGML plone.app.event//EN
X-WR-TIMEZONE:Europe/Madrid
BEGIN:VEVENT
SUMMARY:Reunió seguiment amb l'Àrea de Jardineria
DTSTART;TZID=Europe/Madrid;VALUE=DATE-TIME:20220512T080000
DTEND;TZID=Europe/Madrid;VALUE=DATE-TIME:20220512T090000
DTSTAMP;VALUE=DATE-TIME:20260420T172254Z
UID:83e8e86b6bc0c83ef6b2db73c9a51040
CREATED;VALUE=DATE-TIME:20220512T000000Z
CATEGORIES:Agenda institucional
URL:https://www.canetdemar.cat/document.php?id=22866
END:VEVENT
END:VCALENDAR