BEGIN:VCALENDAR
VERSION:2.0
PRODID:-//Plone.org//NONSGML plone.app.event//EN
X-WR-TIMEZONE:Europe/Madrid
BEGIN:VEVENT
SUMMARY:Reunió seguiment amb l'Àrea de Jardineria
DTSTART;TZID=Europe/Madrid;VALUE=DATE-TIME:20220428T080000
DTEND;TZID=Europe/Madrid;VALUE=DATE-TIME:20220428T090000
DTSTAMP;VALUE=DATE-TIME:20260420T171415Z
UID:71b88a7a7894929da9c0a6b648fc90b3
CREATED;VALUE=DATE-TIME:20220428T000000Z
CATEGORIES:Agenda institucional
URL:https://www.canetdemar.cat/document.php?id=22864
END:VEVENT
END:VCALENDAR