BEGIN:VCALENDAR
VERSION:2.0
PRODID:-//Plone.org//NONSGML plone.app.event//EN
X-WR-TIMEZONE:Europe/Madrid
BEGIN:VEVENT
SUMMARY:Reunió seguiment amb l'Àrea de Jardineria
DTSTART;TZID=Europe/Madrid;VALUE=DATE-TIME:20220421T080000
DTEND;TZID=Europe/Madrid;VALUE=DATE-TIME:20220421T090000
DTSTAMP;VALUE=DATE-TIME:20260420T190956Z
UID:93903dfe533b9ee3873677362248f1de
CREATED;VALUE=DATE-TIME:20220421T000000Z
CATEGORIES:Agenda institucional
URL:https://www.canetdemar.cat/document.php?id=22863
END:VEVENT
END:VCALENDAR