BEGIN:VCALENDAR
VERSION:2.0
PRODID:-//Plone.org//NONSGML plone.app.event//EN
X-WR-TIMEZONE:Europe/Madrid
BEGIN:VEVENT
SUMMARY:Reunió seguiment amb l'Àrea de Jardineria
DTSTART;TZID=Europe/Madrid;VALUE=DATE-TIME:20220414T080000
DTEND;TZID=Europe/Madrid;VALUE=DATE-TIME:20220414T090000
DTSTAMP;VALUE=DATE-TIME:20260420T171223Z
UID:648aca00f87263fa4006b348804b2620
CREATED;VALUE=DATE-TIME:20220414T000000Z
CATEGORIES:Agenda institucional
URL:https://www.canetdemar.cat/document.php?id=22862
END:VEVENT
END:VCALENDAR