BEGIN:VCALENDAR
VERSION:2.0
PRODID:-//Plone.org//NONSGML plone.app.event//EN
X-WR-TIMEZONE:Europe/Madrid
BEGIN:VEVENT
SUMMARY:Entrevista al programa 'Els 4 Cantons' de Ràdio Canet de Mar
DTSTART;TZID=Europe/Madrid;VALUE=DATE-TIME:20220504T110000
DTEND;TZID=Europe/Madrid;VALUE=DATE-TIME:20220504T120000
DTSTAMP;VALUE=DATE-TIME:20260420T201409Z
UID:a2574aef143792d416261064b4cce893
CREATED;VALUE=DATE-TIME:20220504T000000Z
CATEGORIES:Agenda institucional
LOCATION:Estudis de Ràdio Canet
URL:https://www.canetdemar.cat/document.php?id=22858
END:VEVENT
END:VCALENDAR