BEGIN:VCALENDAR
VERSION:2.0
PRODID:-//Plone.org//NONSGML plone.app.event//EN
X-WR-TIMEZONE:Europe/Madrid
BEGIN:VEVENT
SUMMARY:Reunió de coordinació amb l'Àrea de Seguretat Ciutadana
DTSTART;TZID=Europe/Madrid;VALUE=DATE-TIME:20220525T090000
DTEND;TZID=Europe/Madrid;VALUE=DATE-TIME:20220525T100000
DTSTAMP;VALUE=DATE-TIME:20260420T172322Z
UID:d9609df2d7fb50604740abc85e7dce94
CREATED;VALUE=DATE-TIME:20220525T000000Z
CATEGORIES:Agenda institucional
LOCATION:Comissaria de Policia
URL:https://www.canetdemar.cat/document.php?id=22856
END:VEVENT
END:VCALENDAR