BEGIN:VCALENDAR
VERSION:2.0
PRODID:-//Plone.org//NONSGML plone.app.event//EN
X-WR-TIMEZONE:Europe/Madrid
BEGIN:VEVENT
SUMMARY:Reunió de coordinació amb l'Àrea de Seguretat Ciutadana
DTSTART;TZID=Europe/Madrid;VALUE=DATE-TIME:20220518T090000
DTEND;TZID=Europe/Madrid;VALUE=DATE-TIME:20220518T100000
DTSTAMP;VALUE=DATE-TIME:20260420T191915Z
UID:7de895d8123e16c4da134cd8e603ae0b
CREATED;VALUE=DATE-TIME:20220518T000000Z
CATEGORIES:Agenda institucional
LOCATION:Comissaria de Policia
URL:https://www.canetdemar.cat/document.php?id=22855
END:VEVENT
END:VCALENDAR